BEGIN:VCALENDAR
VERSION:2.0
PRODID:-//The Fernery Mosman | Rooftop 719 Military Road, Mosman NSW 2088 - ECPv6.15.20//NONSGML v1.0//EN
CALSCALE:GREGORIAN
METHOD:PUBLISH
X-WR-CALNAME:The Fernery Mosman | Rooftop 719 Military Road, Mosman NSW 2088
X-ORIGINAL-URL:https://www.thefernerymosman.com.au
X-WR-CALDESC:Events for The Fernery Mosman | Rooftop 719 Military Road, Mosman NSW 2088
REFRESH-INTERVAL;VALUE=DURATION:PT1H
X-Robots-Tag:noindex
X-PUBLISHED-TTL:PT1H
BEGIN:VTIMEZONE
TZID:UTC
BEGIN:STANDARD
TZOFFSETFROM:+0000
TZOFFSETTO:+0000
TZNAME:UTC
DTSTART:20230101T000000
END:STANDARD
END:VTIMEZONE
BEGIN:VEVENT
DTSTART;TZID=UTC:20240503T080000
DTEND;TZID=UTC:20300503T170000
DTSTAMP:20260421T104344
CREATED:20240503T024227Z
LAST-MODIFIED:20260218T003359Z
UID:10315241-1714723200-1904058000@www.thefernerymosman.com.au
SUMMARY:Sip\, Savour & Socialise
DESCRIPTION:
URL:https://www.thefernerymosman.com.au/event/sip-savour-socialise/
ATTACH;FMTTYPE=image/jpeg:https://www.thefernerymosman.com.au/wp-content/uploads/2024/05/TheFernery_SipSavourSocialise_july-25_sq.jpg
END:VEVENT
BEGIN:VEVENT
DTSTART;TZID=UTC:20241002T080000
DTEND;TZID=UTC:20241002T170000
DTSTAMP:20260421T104344
CREATED:20230815T022254Z
LAST-MODIFIED:20260420T043557Z
UID:11061256-1727856000-1727888400@www.thefernerymosman.com.au
SUMMARY:Happy Hour
DESCRIPTION:
URL:https://www.thefernerymosman.com.au/event/happy-hour-mosman/2024-10-02/
CATEGORIES:Dining-events,Weekly Events
ATTACH;FMTTYPE=image/jpeg:https://www.thefernerymosman.com.au/wp-content/uploads/2023/08/TheFernery_Happy_Hour-2026__1080_x_1080.jpg
END:VEVENT
BEGIN:VEVENT
DTSTART;VALUE=DATE:20241003
DTEND;VALUE=DATE:20241004
DTSTAMP:20260421T104344
CREATED:20240502T061108Z
LAST-MODIFIED:20260420T044159Z
UID:11060744-1727913600-1727999999@www.thefernerymosman.com.au
SUMMARY:$16 Daiquiris
DESCRIPTION:
URL:https://www.thefernerymosman.com.au/event/daiquiris-cocktail-specials-mosman/2024-10-03/
CATEGORIES:Dining-events,Weekly Events
ATTACH;FMTTYPE=image/jpeg:https://www.thefernerymosman.com.au/wp-content/uploads/2024/05/TheFernery__16Daiquiries-2026__1080_x_1080.jpg
END:VEVENT
BEGIN:VEVENT
DTSTART;TZID=UTC:20241003T080000
DTEND;TZID=UTC:20241003T170000
DTSTAMP:20260421T104344
CREATED:20230815T022254Z
LAST-MODIFIED:20260420T043557Z
UID:11061257-1727942400-1727974800@www.thefernerymosman.com.au
SUMMARY:Happy Hour
DESCRIPTION:
URL:https://www.thefernerymosman.com.au/event/happy-hour-mosman/2024-10-03/
CATEGORIES:Dining-events,Weekly Events
ATTACH;FMTTYPE=image/jpeg:https://www.thefernerymosman.com.au/wp-content/uploads/2023/08/TheFernery_Happy_Hour-2026__1080_x_1080.jpg
END:VEVENT
BEGIN:VEVENT
DTSTART;TZID=UTC:20241004T080000
DTEND;TZID=UTC:20241004T170000
DTSTAMP:20260421T104344
CREATED:20230815T022254Z
LAST-MODIFIED:20260420T043557Z
UID:11061258-1728028800-1728061200@www.thefernerymosman.com.au
SUMMARY:Happy Hour
DESCRIPTION:
URL:https://www.thefernerymosman.com.au/event/happy-hour-mosman/2024-10-04/
CATEGORIES:Dining-events,Weekly Events
ATTACH;FMTTYPE=image/jpeg:https://www.thefernerymosman.com.au/wp-content/uploads/2023/08/TheFernery_Happy_Hour-2026__1080_x_1080.jpg
END:VEVENT
BEGIN:VEVENT
DTSTART;TZID=UTC:20241009T080000
DTEND;TZID=UTC:20241009T170000
DTSTAMP:20260421T104344
CREATED:20230815T022254Z
LAST-MODIFIED:20260420T043557Z
UID:11061259-1728460800-1728493200@www.thefernerymosman.com.au
SUMMARY:Happy Hour
DESCRIPTION:
URL:https://www.thefernerymosman.com.au/event/happy-hour-mosman/2024-10-09/
CATEGORIES:Dining-events,Weekly Events
ATTACH;FMTTYPE=image/jpeg:https://www.thefernerymosman.com.au/wp-content/uploads/2023/08/TheFernery_Happy_Hour-2026__1080_x_1080.jpg
END:VEVENT
BEGIN:VEVENT
DTSTART;VALUE=DATE:20241010
DTEND;VALUE=DATE:20241011
DTSTAMP:20260421T104344
CREATED:20240502T061108Z
LAST-MODIFIED:20260420T044159Z
UID:11060745-1728518400-1728604799@www.thefernerymosman.com.au
SUMMARY:$16 Daiquiris
DESCRIPTION:
URL:https://www.thefernerymosman.com.au/event/daiquiris-cocktail-specials-mosman/2024-10-10/
CATEGORIES:Dining-events,Weekly Events
ATTACH;FMTTYPE=image/jpeg:https://www.thefernerymosman.com.au/wp-content/uploads/2024/05/TheFernery__16Daiquiries-2026__1080_x_1080.jpg
END:VEVENT
BEGIN:VEVENT
DTSTART;TZID=UTC:20241010T080000
DTEND;TZID=UTC:20241010T170000
DTSTAMP:20260421T104344
CREATED:20230815T022254Z
LAST-MODIFIED:20260420T043557Z
UID:11061260-1728547200-1728579600@www.thefernerymosman.com.au
SUMMARY:Happy Hour
DESCRIPTION:
URL:https://www.thefernerymosman.com.au/event/happy-hour-mosman/2024-10-10/
CATEGORIES:Dining-events,Weekly Events
ATTACH;FMTTYPE=image/jpeg:https://www.thefernerymosman.com.au/wp-content/uploads/2023/08/TheFernery_Happy_Hour-2026__1080_x_1080.jpg
END:VEVENT
BEGIN:VEVENT
DTSTART;TZID=UTC:20241011T080000
DTEND;TZID=UTC:20241011T170000
DTSTAMP:20260421T104344
CREATED:20230815T022254Z
LAST-MODIFIED:20260420T043557Z
UID:11061261-1728633600-1728666000@www.thefernerymosman.com.au
SUMMARY:Happy Hour
DESCRIPTION:
URL:https://www.thefernerymosman.com.au/event/happy-hour-mosman/2024-10-11/
CATEGORIES:Dining-events,Weekly Events
ATTACH;FMTTYPE=image/jpeg:https://www.thefernerymosman.com.au/wp-content/uploads/2023/08/TheFernery_Happy_Hour-2026__1080_x_1080.jpg
END:VEVENT
BEGIN:VEVENT
DTSTART;TZID=UTC:20241016T080000
DTEND;TZID=UTC:20241016T170000
DTSTAMP:20260421T104344
CREATED:20230815T022254Z
LAST-MODIFIED:20260420T043557Z
UID:11061262-1729065600-1729098000@www.thefernerymosman.com.au
SUMMARY:Happy Hour
DESCRIPTION:
URL:https://www.thefernerymosman.com.au/event/happy-hour-mosman/2024-10-16/
CATEGORIES:Dining-events,Weekly Events
ATTACH;FMTTYPE=image/jpeg:https://www.thefernerymosman.com.au/wp-content/uploads/2023/08/TheFernery_Happy_Hour-2026__1080_x_1080.jpg
END:VEVENT
BEGIN:VEVENT
DTSTART;VALUE=DATE:20241017
DTEND;VALUE=DATE:20241018
DTSTAMP:20260421T104344
CREATED:20240502T061108Z
LAST-MODIFIED:20260420T044159Z
UID:11060746-1729123200-1729209599@www.thefernerymosman.com.au
SUMMARY:$16 Daiquiris
DESCRIPTION:
URL:https://www.thefernerymosman.com.au/event/daiquiris-cocktail-specials-mosman/2024-10-17/
CATEGORIES:Dining-events,Weekly Events
ATTACH;FMTTYPE=image/jpeg:https://www.thefernerymosman.com.au/wp-content/uploads/2024/05/TheFernery__16Daiquiries-2026__1080_x_1080.jpg
END:VEVENT
BEGIN:VEVENT
DTSTART;TZID=UTC:20241017T080000
DTEND;TZID=UTC:20241017T170000
DTSTAMP:20260421T104344
CREATED:20230815T022254Z
LAST-MODIFIED:20260420T043557Z
UID:11061263-1729152000-1729184400@www.thefernerymosman.com.au
SUMMARY:Happy Hour
DESCRIPTION:
URL:https://www.thefernerymosman.com.au/event/happy-hour-mosman/2024-10-17/
CATEGORIES:Dining-events,Weekly Events
ATTACH;FMTTYPE=image/jpeg:https://www.thefernerymosman.com.au/wp-content/uploads/2023/08/TheFernery_Happy_Hour-2026__1080_x_1080.jpg
END:VEVENT
BEGIN:VEVENT
DTSTART;TZID=UTC:20241018T080000
DTEND;TZID=UTC:20241018T170000
DTSTAMP:20260421T104344
CREATED:20230815T022254Z
LAST-MODIFIED:20260420T043557Z
UID:11061264-1729238400-1729270800@www.thefernerymosman.com.au
SUMMARY:Happy Hour
DESCRIPTION:
URL:https://www.thefernerymosman.com.au/event/happy-hour-mosman/2024-10-18/
CATEGORIES:Dining-events,Weekly Events
ATTACH;FMTTYPE=image/jpeg:https://www.thefernerymosman.com.au/wp-content/uploads/2023/08/TheFernery_Happy_Hour-2026__1080_x_1080.jpg
END:VEVENT
BEGIN:VEVENT
DTSTART;TZID=UTC:20241023T080000
DTEND;TZID=UTC:20241023T170000
DTSTAMP:20260421T104344
CREATED:20230815T022254Z
LAST-MODIFIED:20260420T043557Z
UID:11061265-1729670400-1729702800@www.thefernerymosman.com.au
SUMMARY:Happy Hour
DESCRIPTION:
URL:https://www.thefernerymosman.com.au/event/happy-hour-mosman/2024-10-23/
CATEGORIES:Dining-events,Weekly Events
ATTACH;FMTTYPE=image/jpeg:https://www.thefernerymosman.com.au/wp-content/uploads/2023/08/TheFernery_Happy_Hour-2026__1080_x_1080.jpg
END:VEVENT
BEGIN:VEVENT
DTSTART;VALUE=DATE:20241024
DTEND;VALUE=DATE:20241025
DTSTAMP:20260421T104344
CREATED:20240502T061108Z
LAST-MODIFIED:20260420T044159Z
UID:11060747-1729728000-1729814399@www.thefernerymosman.com.au
SUMMARY:$16 Daiquiris
DESCRIPTION:
URL:https://www.thefernerymosman.com.au/event/daiquiris-cocktail-specials-mosman/2024-10-24/
CATEGORIES:Dining-events,Weekly Events
ATTACH;FMTTYPE=image/jpeg:https://www.thefernerymosman.com.au/wp-content/uploads/2024/05/TheFernery__16Daiquiries-2026__1080_x_1080.jpg
END:VEVENT
BEGIN:VEVENT
DTSTART;TZID=UTC:20241024T080000
DTEND;TZID=UTC:20241024T170000
DTSTAMP:20260421T104344
CREATED:20230815T022254Z
LAST-MODIFIED:20260420T043557Z
UID:11061266-1729756800-1729789200@www.thefernerymosman.com.au
SUMMARY:Happy Hour
DESCRIPTION:
URL:https://www.thefernerymosman.com.au/event/happy-hour-mosman/2024-10-24/
CATEGORIES:Dining-events,Weekly Events
ATTACH;FMTTYPE=image/jpeg:https://www.thefernerymosman.com.au/wp-content/uploads/2023/08/TheFernery_Happy_Hour-2026__1080_x_1080.jpg
END:VEVENT
BEGIN:VEVENT
DTSTART;TZID=UTC:20241025T080000
DTEND;TZID=UTC:20241025T170000
DTSTAMP:20260421T104344
CREATED:20230815T022254Z
LAST-MODIFIED:20260420T043557Z
UID:11061267-1729843200-1729875600@www.thefernerymosman.com.au
SUMMARY:Happy Hour
DESCRIPTION:
URL:https://www.thefernerymosman.com.au/event/happy-hour-mosman/2024-10-25/
CATEGORIES:Dining-events,Weekly Events
ATTACH;FMTTYPE=image/jpeg:https://www.thefernerymosman.com.au/wp-content/uploads/2023/08/TheFernery_Happy_Hour-2026__1080_x_1080.jpg
END:VEVENT
BEGIN:VEVENT
DTSTART;TZID=UTC:20241030T080000
DTEND;TZID=UTC:20241030T170000
DTSTAMP:20260421T104344
CREATED:20230815T022254Z
LAST-MODIFIED:20260420T043557Z
UID:11061268-1730275200-1730307600@www.thefernerymosman.com.au
SUMMARY:Happy Hour
DESCRIPTION:
URL:https://www.thefernerymosman.com.au/event/happy-hour-mosman/2024-10-30/
CATEGORIES:Dining-events,Weekly Events
ATTACH;FMTTYPE=image/jpeg:https://www.thefernerymosman.com.au/wp-content/uploads/2023/08/TheFernery_Happy_Hour-2026__1080_x_1080.jpg
END:VEVENT
BEGIN:VEVENT
DTSTART;VALUE=DATE:20241031
DTEND;VALUE=DATE:20241101
DTSTAMP:20260421T104344
CREATED:20240502T061108Z
LAST-MODIFIED:20260420T044159Z
UID:11060748-1730332800-1730419199@www.thefernerymosman.com.au
SUMMARY:$16 Daiquiris
DESCRIPTION:
URL:https://www.thefernerymosman.com.au/event/daiquiris-cocktail-specials-mosman/2024-10-31/
CATEGORIES:Dining-events,Weekly Events
ATTACH;FMTTYPE=image/jpeg:https://www.thefernerymosman.com.au/wp-content/uploads/2024/05/TheFernery__16Daiquiries-2026__1080_x_1080.jpg
END:VEVENT
BEGIN:VEVENT
DTSTART;TZID=UTC:20241031T080000
DTEND;TZID=UTC:20241031T170000
DTSTAMP:20260421T104344
CREATED:20230815T022254Z
LAST-MODIFIED:20260420T043557Z
UID:11061269-1730361600-1730394000@www.thefernerymosman.com.au
SUMMARY:Happy Hour
DESCRIPTION:
URL:https://www.thefernerymosman.com.au/event/happy-hour-mosman/2024-10-31/
CATEGORIES:Dining-events,Weekly Events
ATTACH;FMTTYPE=image/jpeg:https://www.thefernerymosman.com.au/wp-content/uploads/2023/08/TheFernery_Happy_Hour-2026__1080_x_1080.jpg
END:VEVENT
END:VCALENDAR