BEGIN:VCALENDAR
VERSION:2.0
PRODID:-//The Fernery Mosman | Rooftop 719 Military Road, Mosman NSW 2088 - ECPv6.15.20//NONSGML v1.0//EN
CALSCALE:GREGORIAN
METHOD:PUBLISH
X-WR-CALNAME:The Fernery Mosman | Rooftop 719 Military Road, Mosman NSW 2088
X-ORIGINAL-URL:https://www.thefernerymosman.com.au
X-WR-CALDESC:Events for The Fernery Mosman | Rooftop 719 Military Road, Mosman NSW 2088
REFRESH-INTERVAL;VALUE=DURATION:PT1H
X-Robots-Tag:noindex
X-PUBLISHED-TTL:PT1H
BEGIN:VTIMEZONE
TZID:UTC
BEGIN:STANDARD
TZOFFSETFROM:+0000
TZOFFSETTO:+0000
TZNAME:UTC
DTSTART:20250101T000000
END:STANDARD
END:VTIMEZONE
BEGIN:VEVENT
DTSTART;VALUE=DATE:20260422
DTEND;VALUE=DATE:20260829
DTSTAMP:20260421T121034
CREATED:20260302T031303Z
LAST-MODIFIED:20260420T042844Z
UID:11060214-1776816000-1787961599@www.thefernerymosman.com.au
SUMMARY:$30 Pasta & Wine Lunch
DESCRIPTION:
URL:https://www.thefernerymosman.com.au/event/pasta-wine-lunch-mosman/2026-04-22/
CATEGORIES:Dining-events,Weekly Events,Whats On
ATTACH;FMTTYPE=image/jpeg:https://www.thefernerymosman.com.au/wp-content/uploads/2026/03/TFM_pasta_wine_lunch__1080_x_1080.jpg
END:VEVENT
BEGIN:VEVENT
DTSTART;TZID=UTC:20260426T080000
DTEND;TZID=UTC:20260426T170000
DTSTAMP:20260421T121034
CREATED:20250105T233035Z
LAST-MODIFIED:20260415T031724Z
UID:11062651-1777190400-1777222800@www.thefernerymosman.com.au
SUMMARY:Sunset Sessions
DESCRIPTION:
URL:https://www.thefernerymosman.com.au/event/sunset-sessions/2026-04-26/
CATEGORIES:Weekly Events,Whats On
ATTACH;FMTTYPE=image/jpeg:https://www.thefernerymosman.com.au/wp-content/uploads/2025/01/TheFernery_SunsetSessions_update-july-25_sq.jpg
END:VEVENT
END:VCALENDAR